BEGIN:VCALENDAR
VERSION:2.0
PRODID:-//Eifeldorf Höfen - ECPv6.15.20//NONSGML v1.0//EN
CALSCALE:GREGORIAN
METHOD:PUBLISH
X-ORIGINAL-URL:https://xn--eifeldorf-hfen-5pb.de
X-WR-CALDESC:Veranstaltungen für Eifeldorf Höfen
REFRESH-INTERVAL;VALUE=DURATION:PT1H
X-Robots-Tag:noindex
X-PUBLISHED-TTL:PT1H
BEGIN:VTIMEZONE
TZID:Europe/Berlin
BEGIN:DAYLIGHT
TZOFFSETFROM:+0100
TZOFFSETTO:+0200
TZNAME:CEST
DTSTART:20250330T010000
END:DAYLIGHT
BEGIN:STANDARD
TZOFFSETFROM:+0200
TZOFFSETTO:+0100
TZNAME:CET
DTSTART:20251026T010000
END:STANDARD
BEGIN:DAYLIGHT
TZOFFSETFROM:+0100
TZOFFSETTO:+0200
TZNAME:CEST
DTSTART:20260329T010000
END:DAYLIGHT
BEGIN:STANDARD
TZOFFSETFROM:+0200
TZOFFSETTO:+0100
TZNAME:CET
DTSTART:20261025T010000
END:STANDARD
BEGIN:DAYLIGHT
TZOFFSETFROM:+0100
TZOFFSETTO:+0200
TZNAME:CEST
DTSTART:20270328T010000
END:DAYLIGHT
BEGIN:STANDARD
TZOFFSETFROM:+0200
TZOFFSETTO:+0100
TZNAME:CET
DTSTART:20271031T010000
END:STANDARD
END:VTIMEZONE
BEGIN:VEVENT
DTSTART;TZID=Europe/Berlin:20261022T000000
DTEND;TZID=Europe/Berlin:20261024T235959
DTSTAMP:20260422T202825
CREATED:20251212T114157Z
LAST-MODIFIED:20251212T114157Z
UID:2814-1792627200-1792886399@xn--eifeldorf-hfen-5pb.de
SUMMARY:Lyra Höfen - Ferienlager
DESCRIPTION:Pfarrzentrum Höfen
URL:https://xn--eifeldorf-hfen-5pb.de/event/lyra-hoefen-ferienlager/
END:VEVENT
END:VCALENDAR