BEGIN:VCALENDAR
VERSION:2.0
PRODID:-//Eifeldorf Höfen - ECPv6.15.20//NONSGML v1.0//EN
CALSCALE:GREGORIAN
METHOD:PUBLISH
X-WR-CALNAME:Eifeldorf Höfen
X-ORIGINAL-URL:https://xn--eifeldorf-hfen-5pb.de
X-WR-CALDESC:Veranstaltungen für Eifeldorf Höfen
REFRESH-INTERVAL;VALUE=DURATION:PT1H
X-Robots-Tag:noindex
X-PUBLISHED-TTL:PT1H
BEGIN:VTIMEZONE
TZID:Europe/Berlin
BEGIN:DAYLIGHT
TZOFFSETFROM:+0100
TZOFFSETTO:+0200
TZNAME:CEST
DTSTART:20250330T010000
END:DAYLIGHT
BEGIN:STANDARD
TZOFFSETFROM:+0200
TZOFFSETTO:+0100
TZNAME:CET
DTSTART:20251026T010000
END:STANDARD
BEGIN:DAYLIGHT
TZOFFSETFROM:+0100
TZOFFSETTO:+0200
TZNAME:CEST
DTSTART:20260329T010000
END:DAYLIGHT
BEGIN:STANDARD
TZOFFSETFROM:+0200
TZOFFSETTO:+0100
TZNAME:CET
DTSTART:20261025T010000
END:STANDARD
BEGIN:DAYLIGHT
TZOFFSETFROM:+0100
TZOFFSETTO:+0200
TZNAME:CEST
DTSTART:20270328T010000
END:DAYLIGHT
BEGIN:STANDARD
TZOFFSETFROM:+0200
TZOFFSETTO:+0100
TZNAME:CET
DTSTART:20271031T010000
END:STANDARD
END:VTIMEZONE
BEGIN:VEVENT
DTSTART;TZID=Europe/Berlin:20260704T000000
DTEND;TZID=Europe/Berlin:20260704T235959
DTSTAMP:20260422T155227
CREATED:20251212T113336Z
LAST-MODIFIED:20251212T113336Z
UID:2802-1783123200-1783209599@xn--eifeldorf-hfen-5pb.de
SUMMARY:Pilgerung Heimbach
DESCRIPTION:
URL:https://xn--eifeldorf-hfen-5pb.de/event/pilgerung-heimbach/
END:VEVENT
BEGIN:VEVENT
DTSTART;TZID=Europe/Berlin:20260705T100000
DTEND;TZID=Europe/Berlin:20260705T100000
DTSTAMP:20260422T155227
CREATED:20251212T113450Z
LAST-MODIFIED:20251212T113451Z
UID:2804-1783245600-1783245600@xn--eifeldorf-hfen-5pb.de
SUMMARY:Lyra Höfen - Tag der offenen Tür
DESCRIPTION:Proberaum
URL:https://xn--eifeldorf-hfen-5pb.de/event/lyra-hoefen-tag-der-offenen-tuer/
END:VEVENT
END:VCALENDAR