BEGIN:VCALENDAR
VERSION:2.0
PRODID:-//Eifeldorf Höfen - ECPv6.15.20//NONSGML v1.0//EN
CALSCALE:GREGORIAN
METHOD:PUBLISH
X-WR-CALNAME:Eifeldorf Höfen
X-ORIGINAL-URL:https://xn--eifeldorf-hfen-5pb.de
X-WR-CALDESC:Veranstaltungen für Eifeldorf Höfen
REFRESH-INTERVAL;VALUE=DURATION:PT1H
X-Robots-Tag:noindex
X-PUBLISHED-TTL:PT1H
BEGIN:VTIMEZONE
TZID:Europe/Berlin
BEGIN:DAYLIGHT
TZOFFSETFROM:+0100
TZOFFSETTO:+0200
TZNAME:CEST
DTSTART:20250330T010000
END:DAYLIGHT
BEGIN:STANDARD
TZOFFSETFROM:+0200
TZOFFSETTO:+0100
TZNAME:CET
DTSTART:20251026T010000
END:STANDARD
BEGIN:DAYLIGHT
TZOFFSETFROM:+0100
TZOFFSETTO:+0200
TZNAME:CEST
DTSTART:20260329T010000
END:DAYLIGHT
BEGIN:STANDARD
TZOFFSETFROM:+0200
TZOFFSETTO:+0100
TZNAME:CET
DTSTART:20261025T010000
END:STANDARD
BEGIN:DAYLIGHT
TZOFFSETFROM:+0100
TZOFFSETTO:+0200
TZNAME:CEST
DTSTART:20270328T010000
END:DAYLIGHT
BEGIN:STANDARD
TZOFFSETFROM:+0200
TZOFFSETTO:+0100
TZNAME:CET
DTSTART:20271031T010000
END:STANDARD
END:VTIMEZONE
BEGIN:VEVENT
DTSTART;TZID=Europe/Berlin:20260508T200000
DTEND;TZID=Europe/Berlin:20260508T200000
DTSTAMP:20260422T132122
CREATED:20251212T112552Z
LAST-MODIFIED:20260316T075150Z
UID:2790-1778270400-1778270400@xn--eifeldorf-hfen-5pb.de
SUMMARY:Lyra Höfen - Film- und Popmusikabend
DESCRIPTION:Vereinshalle Höfen
URL:https://xn--eifeldorf-hfen-5pb.de/event/lyra-hoefen-film-und-popmusikabend/
END:VEVENT
BEGIN:VEVENT
DTSTART;TZID=Europe/Berlin:20260509T000000
DTEND;TZID=Europe/Berlin:20260509T000000
DTSTAMP:20260422T132122
CREATED:20251212T112703Z
LAST-MODIFIED:20260406T073619Z
UID:2792-1778284800-1778284800@xn--eifeldorf-hfen-5pb.de
SUMMARY:KG Biebesse - Sommerfest 2.0
DESCRIPTION:Vereinshalle Höfen
URL:https://xn--eifeldorf-hfen-5pb.de/event/kg-biebesse-fruehlingsfest/
END:VEVENT
BEGIN:VEVENT
DTSTART;TZID=Europe/Berlin:20260522T000000
DTEND;TZID=Europe/Berlin:20260525T235959
DTSTAMP:20260422T132122
CREATED:20251212T112844Z
LAST-MODIFIED:20251212T112844Z
UID:2794-1779408000-1779753599@xn--eifeldorf-hfen-5pb.de
SUMMARY:Feuerwehr - Besuch aus Bourg St Andeol
DESCRIPTION:
URL:https://xn--eifeldorf-hfen-5pb.de/event/feuerwehr-besuch-aus-bourg-st-andeol/
END:VEVENT
BEGIN:VEVENT
DTSTART;TZID=Europe/Berlin:20260531T110000
DTEND;TZID=Europe/Berlin:20260531T110000
DTSTAMP:20260422T132122
CREATED:20251212T112934Z
LAST-MODIFIED:20251212T112935Z
UID:2796-1780225200-1780225200@xn--eifeldorf-hfen-5pb.de
SUMMARY:Schützenverein - Stadtschützenfest in Höfen
DESCRIPTION:
URL:https://xn--eifeldorf-hfen-5pb.de/event/schuetzenverein-stadtschuetzenfest-in-hoefen/
END:VEVENT
END:VCALENDAR