BEGIN:VCALENDAR
VERSION:2.0
PRODID:-//Eifeldorf Höfen - ECPv6.15.20//NONSGML v1.0//EN
CALSCALE:GREGORIAN
METHOD:PUBLISH
X-WR-CALNAME:Eifeldorf Höfen
X-ORIGINAL-URL:https://xn--eifeldorf-hfen-5pb.de
X-WR-CALDESC:Veranstaltungen für Eifeldorf Höfen
REFRESH-INTERVAL;VALUE=DURATION:PT1H
X-Robots-Tag:noindex
X-PUBLISHED-TTL:PT1H
BEGIN:VTIMEZONE
TZID:Europe/Berlin
BEGIN:DAYLIGHT
TZOFFSETFROM:+0100
TZOFFSETTO:+0200
TZNAME:CEST
DTSTART:20250330T010000
END:DAYLIGHT
BEGIN:STANDARD
TZOFFSETFROM:+0200
TZOFFSETTO:+0100
TZNAME:CET
DTSTART:20251026T010000
END:STANDARD
BEGIN:DAYLIGHT
TZOFFSETFROM:+0100
TZOFFSETTO:+0200
TZNAME:CEST
DTSTART:20260329T010000
END:DAYLIGHT
BEGIN:STANDARD
TZOFFSETFROM:+0200
TZOFFSETTO:+0100
TZNAME:CET
DTSTART:20261025T010000
END:STANDARD
BEGIN:DAYLIGHT
TZOFFSETFROM:+0100
TZOFFSETTO:+0200
TZNAME:CEST
DTSTART:20270328T010000
END:DAYLIGHT
BEGIN:STANDARD
TZOFFSETFROM:+0200
TZOFFSETTO:+0100
TZNAME:CET
DTSTART:20271031T010000
END:STANDARD
END:VTIMEZONE
BEGIN:VEVENT
DTSTART;TZID=Europe/Berlin:20260419T103000
DTEND;TZID=Europe/Berlin:20260419T103000
DTSTAMP:20260425T191656
CREATED:20260327T171814Z
LAST-MODIFIED:20260406T074653Z
UID:3018-1776594600-1776594600@xn--eifeldorf-hfen-5pb.de
SUMMARY:Feier der Erst- u. Jubelkommunion\n(in der Kirche Kalterherberg)
DESCRIPTION:Kollekte f. d. kath. Diaspora-Kinderhilfe
URL:https://xn--eifeldorf-hfen-5pb.de/event/feier-der-erst-u-jubelkommunion/
END:VEVENT
BEGIN:VEVENT
DTSTART;TZID=Europe/Berlin:20260407T093000
DTEND;TZID=Europe/Berlin:20260407T093000
DTSTAMP:20260425T191656
CREATED:20251121T155312Z
LAST-MODIFIED:20251121T155402Z
UID:2630-1775554200-1775554200@xn--eifeldorf-hfen-5pb.de
SUMMARY:Eifelverein - Männertreff
DESCRIPTION:Haus SeebendHauptstraße 12352156 Monschau \n\n\n\n\n\n\n\n\n\n\n\nE I F E L- und H E I M A T V E R E I N             Ortsgruppe Höfen e.V. \n\n\n\n\n\n\n\n\n\nEinladung \n\n\n\nzum Männertreff für alle Dorfbewohner \n\n\n\n(Frühstück mit Klönen\, Planen\, Karten usw.) \n\n\n\nNov. bis April jeden ersten Dienstag im Monat \n\n\n\n ab 9:30 Uhr im Haus Seebend \n\n\n\nBeitrag 7\,– €. \n\n\n\nWir bitten um Anmeldung bei \n\n\n\nGertrud Jakobs Tel. 7822 oder Monika Jakobs Tel. 7313
URL:https://xn--eifeldorf-hfen-5pb.de/event/eifelverein-maennertreff-4/
END:VEVENT
BEGIN:VEVENT
DTSTART;TZID=Europe/Berlin:20260406T110000
DTEND;TZID=Europe/Berlin:20260406T110000
DTSTAMP:20260425T191656
CREATED:20260327T171618Z
LAST-MODIFIED:20260327T171621Z
UID:3016-1775473200-1775473200@xn--eifeldorf-hfen-5pb.de
SUMMARY:Hl. Messe im Haus Seebend
DESCRIPTION:Kollekte für unsere Pfarrkirche \n\n\n\nf. Leb. u. Verst. d. Pfarrgemeindef. Ehel. Emma u. Clemens Schmiddemf. Felix u. Susanna Alzer geb. Jakobs
URL:https://xn--eifeldorf-hfen-5pb.de/event/hl-messe-im-haus-seebend/
END:VEVENT
BEGIN:VEVENT
DTSTART;TZID=Europe/Berlin:20260329T110000
DTEND;TZID=Europe/Berlin:20260329T110000
DTSTAMP:20260425T191656
CREATED:20260220T091625Z
LAST-MODIFIED:20260220T091626Z
UID:2987-1774782000-1774782000@xn--eifeldorf-hfen-5pb.de
SUMMARY:Hl. Messe zum Palmsonntag mit Palmsegnung
DESCRIPTION:
URL:https://xn--eifeldorf-hfen-5pb.de/event/hl-messe-zum-palmsonntag-mit-palmsegnung/
END:VEVENT
END:VCALENDAR