BEGIN:VCALENDAR
VERSION:2.0
PRODID:-//Eifeldorf Höfen - ECPv6.15.20//NONSGML v1.0//EN
CALSCALE:GREGORIAN
METHOD:PUBLISH
X-ORIGINAL-URL:https://xn--eifeldorf-hfen-5pb.de
X-WR-CALDESC:Veranstaltungen für Eifeldorf Höfen
REFRESH-INTERVAL;VALUE=DURATION:PT1H
X-Robots-Tag:noindex
X-PUBLISHED-TTL:PT1H
BEGIN:VTIMEZONE
TZID:Europe/Berlin
BEGIN:DAYLIGHT
TZOFFSETFROM:+0100
TZOFFSETTO:+0200
TZNAME:CEST
DTSTART:20250330T010000
END:DAYLIGHT
BEGIN:STANDARD
TZOFFSETFROM:+0200
TZOFFSETTO:+0100
TZNAME:CET
DTSTART:20251026T010000
END:STANDARD
BEGIN:DAYLIGHT
TZOFFSETFROM:+0100
TZOFFSETTO:+0200
TZNAME:CEST
DTSTART:20260329T010000
END:DAYLIGHT
BEGIN:STANDARD
TZOFFSETFROM:+0200
TZOFFSETTO:+0100
TZNAME:CET
DTSTART:20261025T010000
END:STANDARD
BEGIN:DAYLIGHT
TZOFFSETFROM:+0100
TZOFFSETTO:+0200
TZNAME:CEST
DTSTART:20270328T010000
END:DAYLIGHT
BEGIN:STANDARD
TZOFFSETFROM:+0200
TZOFFSETTO:+0100
TZNAME:CET
DTSTART:20271031T010000
END:STANDARD
END:VTIMEZONE
BEGIN:VEVENT
DTSTART;TZID=Europe/Berlin:20261220T150000
DTEND;TZID=Europe/Berlin:20261220T150000
DTSTAMP:20260423T001812
CREATED:20251212T114522Z
LAST-MODIFIED:20251212T114522Z
UID:2820-1797778800-1797778800@xn--eifeldorf-hfen-5pb.de
SUMMARY:Lyra - Weihnachtskonzert
DESCRIPTION:Kirche Höfen
URL:https://xn--eifeldorf-hfen-5pb.de/event/lyra-weihnachtskonzert/
END:VEVENT
END:VCALENDAR